BEGIN:VCALENDAR
VERSION:2.0
PRODID:icalendar-ruby
CALSCALE:GREGORIAN
METHOD:PUBLISH
BEGIN:VEVENT
DTSTAMP:20260425T132543Z
UID:5-411048@fullgospel260.tithelysetup2.com
DTSTART:20260614T150000Z
DTEND:20260614T160000Z
CLASS:PUBLIC
CREATED:20260424T083458
DESCRIPTION:Sunday Worship
LAST-MODIFIED:20260424T083458
LOCATION:
SUMMARY:Sunday Worship
URL;VALUE=URI:https://fullgospel260.tithelysetup2.com/events/sunday-worship
 /2026-06-14
END:VEVENT
END:VCALENDAR
