BEGIN:VCALENDAR
VERSION:2.0
PRODID:icalendar-ruby
CALSCALE:GREGORIAN
METHOD:PUBLISH
BEGIN:VEVENT
DTSTAMP:20260424T202059Z
UID:5-411041@fullgospel260.tithelysetup2.com
DTSTART:20260426T150000Z
DTEND:20260426T160000Z
CLASS:PUBLIC
CREATED:20260424T083458
DESCRIPTION:Sunday Worship
LAST-MODIFIED:20260424T083458
LOCATION:
SUMMARY:Sunday Worship
URL;VALUE=URI:https://fullgospel260.tithelysetup2.com/events/sunday-worship
 /2026-04-26
END:VEVENT
END:VCALENDAR
