BEGIN:VCALENDAR
VERSION:2.0
PRODID:icalendar-ruby
CALSCALE:GREGORIAN
METHOD:PUBLISH
BEGIN:VEVENT
DTSTAMP:20260424T204447Z
UID:6-411069@fullgospel260.tithelysetup2.com
DTSTART:20260510T150000Z
DTEND:20260510T163000Z
CLASS:PUBLIC
CREATED:20260424T121457
DESCRIPTION:Mother's... where would we be without them. They are the glue t
 hat has held communities together for centuries. May 10th Join us in honor
 ing the ones who delivered us\, prayed for us\, taught us\, and most of al
 l loved us. 
LAST-MODIFIED:20260424T121457
LOCATION:Full Gospel UPC - 6729 Mickens Rd. Baton Rouge\, La 70811
SUMMARY:Mother's Day Celebration
URL;VALUE=URI:https://fullgospel260.tithelysetup2.com/events/mothers-day-ce
 lebration/2026-05-10
ATTACH;FILENAME=Love-and-Laughter---2309x1536.jpeg;FMTTYPE=image/jpeg:https
 ://dq5pwpg1q8ru0.cloudfront.net/2026/04/24/17/14/57/c73e0523-37b4-4cac-97d
 d-23b5bf6eccf9/Love-and-Laughter---2309x1536.jpeg
END:VEVENT
END:VCALENDAR
